BEGIN:VCALENDAR
VERSION:2.0
PRODID:icalendar-ruby
CALSCALE:GREGORIAN
METHOD:PUBLISH
BEGIN:VEVENT
DTSTAMP:20260424T155949Z
UID:11-361526@mtpleasantgmc.org
DTSTART:20260927T143000Z
DTEND:20260927T153000Z
CLASS:PUBLIC
CREATED:20260424T103920
DESCRIPTION:Join us for a heartfelt Sunday Worship service at Mount Pleasan
 t Methodist Church in Vancleave\, MS! Experience a welcoming community\, i
 nspiring music\, and a meaningful message rooted in faith and love. All ar
 e invited to gather as we worship together and grow closer to God.
LAST-MODIFIED:20260424T103920
LOCATION:13802 Mount Pleasant Rd\, Vancleave\, MS 39565
SUMMARY:Sunday Worship
URL;VALUE=URI:https://www.mtpleasantgmc.org/events/sunday-worship/2026-09-2
 7
ATTACH;FILENAME=Church_1500x784.jpg;FMTTYPE=image/jpeg:https://dq5pwpg1q8ru
 0.cloudfront.net/2025/09/03/16/21/44/23eff6d9-4c91-4393-996d-ace90bab93f7/
 Church_1500x784.jpg
END:VEVENT
END:VCALENDAR
