BEGIN:VCALENDAR
VERSION:2.0
PRODID:icalendar-ruby
CALSCALE:GREGORIAN
METHOD:PUBLISH
BEGIN:VEVENT
DTSTAMP:20260423T083945Z
UID:10-359498@mtpleasantgmc.org
DTSTART:20261004T131500Z
DTEND:20261004T141500Z
CLASS:PUBLIC
CREATED:20260422T221646
DESCRIPTION:Discover a nurturing environment for spiritual growth at Mount 
 Pleasant Methodist Church in Vancleave\, MS! Our Sunday School offers enga
 ging\, age-appropriate classes for adults and children\, fostering faith\,
  community\, and biblical understanding. Join us for inspiring discussions
  and fun\, meaningful lessons that connect us to God’s word.
LAST-MODIFIED:20260422T221646
LOCATION:13802 Mount Pleasant Rd\, Vancleave\, MS 39565
SUMMARY:Sunday School for Adults and Children
URL;VALUE=URI:https://www.mtpleasantgmc.org/events/sunday-school-for-adults
 -and-children/2026-10-04
ATTACH;FILENAME=Church_1500x784.jpg;FMTTYPE=image/jpeg:https://dq5pwpg1q8ru
 0.cloudfront.net/2025/09/03/16/24/06/98146221-bf17-4a4f-8188-b8dc9f258208/
 Church_1500x784.jpg
END:VEVENT
END:VCALENDAR
