BEGIN:VCALENDAR
VERSION:2.0
PRODID:icalendar-ruby
CALSCALE:GREGORIAN
METHOD:PUBLISH
BEGIN:VEVENT
DTSTAMP:20260422T215803Z
UID:2-358948@mtpleasantgmc.org
DTSTART:20261103T163000Z
DTEND:20261103T180000Z
CLASS:PUBLIC
CREATED:20260422T163050
DESCRIPTION:
LAST-MODIFIED:20260422T163050
LOCATION:13802 Mount Pleasant Rd\, Vancleave\, MS 39565
SUMMARY:Ladies Bible Study
URL;VALUE=URI:https://www.mtpleasantgmc.org/events/ladies-bible-study/2026-
 11-03
ATTACH;FILENAME=brooke-lark-93583-unsplash.jpg;FMTTYPE=image/jpeg:https://d
 q5pwpg1q8ru0.cloudfront.net/2025/08/25/21/59/50/df01aa75-3080-422e-8f60-af
 fe6cb2014e/brooke-lark-93583-unsplash.jpg
END:VEVENT
END:VCALENDAR
