BEGIN:VCALENDAR
VERSION:2.0
PRODID:icalendar-ruby
CALSCALE:GREGORIAN
METHOD:PUBLISH
BEGIN:VEVENT
DTSTAMP:20260422T114728Z
UID:2-357965@mtpleasantgmc.org
DTSTART:20261013T153000Z
DTEND:20261013T170000Z
CLASS:PUBLIC
CREATED:20260421T203704
DESCRIPTION:
LAST-MODIFIED:20260421T203704
LOCATION:13802 Mount Pleasant Rd\, Vancleave\, MS 39565
SUMMARY:Ladies Bible Study
URL;VALUE=URI:https://www.mtpleasantgmc.org/events/ladies-bible-study/2026-
 10-13
ATTACH;FILENAME=brooke-lark-93583-unsplash.jpg;FMTTYPE=image/jpeg:https://d
 q5pwpg1q8ru0.cloudfront.net/2025/08/25/21/59/50/df01aa75-3080-422e-8f60-af
 fe6cb2014e/brooke-lark-93583-unsplash.jpg
END:VEVENT
END:VCALENDAR
